BEGIN:VCALENDAR
VERSION:2.0
PRODID:-//Gcine - ECPv6.15.20//NONSGML v1.0//EN
CALSCALE:GREGORIAN
METHOD:PUBLISH
X-WR-CALNAME:Gcine
X-ORIGINAL-URL:https://gcine.fr
X-WR-CALDESC:Évènements pour Gcine
REFRESH-INTERVAL;VALUE=DURATION:PT1H
X-Robots-Tag:noindex
X-PUBLISHED-TTL:PT1H
BEGIN:VTIMEZONE
TZID:UTC
BEGIN:STANDARD
TZOFFSETFROM:+0000
TZOFFSETTO:+0000
TZNAME:UTC
DTSTART:20250101T000000
END:STANDARD
END:VTIMEZONE
BEGIN:VEVENT
DTSTART;TZID=UTC:20260303T200000
DTEND;TZID=UTC:20260303T230000
DTSTAMP:20260421T201434
CREATED:20251102T203418Z
LAST-MODIFIED:20251102T204202Z
UID:10889-1772568000-1772578800@gcine.fr
SUMMARY:Projection du film "The Greatest Showman" au cinéma Le Mikado
DESCRIPTION:Si vous aussi vous avez écouté en boucle la bande originale de The Greatest Showman à sa sortie en 2018\, cette séance est pour vous ! Ramenez votre bonne humeur et votre superbe voix (même si vous chantez faux\, ça passe\, on dira rien) pour cette soirée animée par les bénévoles de Gciné. Rendez-vous le 3 mars 2026 au cinéma le Mikado à Annecy.
URL:https://gcine.fr/evenement/projection-du-film-the-greatest-showman-au-cinema-le-mikado/
LOCATION:Cinéma Le Mikado\, 2 Pl. de l'Annapurna\, Annecy\, 74000\, France
ATTACH;FMTTYPE=image/jpeg:https://gcine.fr/wp-content/uploads/2025/11/greatest-showman.jpg
END:VEVENT
BEGIN:VEVENT
DTSTART;TZID=UTC:20260313T203000
DTEND;TZID=UTC:20260314T070000
DTSTAMP:20260421T201434
CREATED:20251124T230103Z
LAST-MODIFIED:20260223T154923Z
UID:10904-1773433800-1773471600@gcine.fr
SUMMARY:Nuit Fantastique à la Turbine
DESCRIPTION:13 mars à 20h30 – 14 mars au matin\nNuit fantastique à la Turbine\nAu programme :\n\n\nMarama\, Taratoa Stappard (2025)\nEvanouis\, Zach Cregger (2025)\nL’échelle de Jacob\, Adrian Lyne (1990)\nThe ugly\, Sang-Ho Yeon (2025)\nVermines\, Sébastien Vaniček (2023)\n\nEntre chaque film\, des animations vous seront proposées par les bénévoles de Gciné.\n\nTarifs habituels pour le 1er film / 20€ pour la nuit complète / Café et croissants offerts le matin
URL:https://gcine.fr/evenement/nuit-fantastique-a-la-turbine/
LOCATION:Cinéma La Turbine\, 3 Rue des Tisserands\, Annecy\, 74960
ATTACH;FMTTYPE=image/jpeg:https://gcine.fr/wp-content/uploads/2025/11/nuit-fantastique-2026-gcine.jpg
END:VEVENT
BEGIN:VEVENT
DTSTART;VALUE=DATE:20260328
DTEND;VALUE=DATE:20260329
DTSTAMP:20260421T201434
CREATED:20251102T202149Z
LAST-MODIFIED:20251102T202328Z
UID:10884-1774656000-1774742399@gcine.fr
SUMMARY:G10h\, 1ère édition\, à Chambéry
DESCRIPTION:Notre événement G10h pour faire un film débarque à Chambéry en 2026 pour une première édition ! Plus d’informations à venir !
URL:https://gcine.fr/evenement/g10h-1ere-edition-a-chambery/
LOCATION:Espace Malraux\, 67 Pl. François Mitterrand\, Chambéry\, 73000\, France
ATTACH;FMTTYPE=image/png:https://gcine.fr/wp-content/uploads/2025/11/g10h-chambery-2026.png
END:VEVENT
END:VCALENDAR