BEGIN:VCALENDAR
VERSION:2.0
PRODID:-//Gcine - ECPv6.15.20//NONSGML v1.0//EN
CALSCALE:GREGORIAN
METHOD:PUBLISH
X-ORIGINAL-URL:https://gcine.fr
X-WR-CALDESC:Évènements pour Gcine
REFRESH-INTERVAL;VALUE=DURATION:PT1H
X-Robots-Tag:noindex
X-PUBLISHED-TTL:PT1H
BEGIN:VTIMEZONE
TZID:UTC
BEGIN:STANDARD
TZOFFSETFROM:+0000
TZOFFSETTO:+0000
TZNAME:UTC
DTSTART:20230101T000000
END:STANDARD
END:VTIMEZONE
BEGIN:VEVENT
DTSTART;VALUE=DATE:20260328
DTEND;VALUE=DATE:20260329
DTSTAMP:20260423T083550
CREATED:20251102T202149Z
LAST-MODIFIED:20251102T202328Z
UID:10884-1774656000-1774742399@gcine.fr
SUMMARY:G10h\, 1ère édition\, à Chambéry
DESCRIPTION:Notre événement G10h pour faire un film débarque à Chambéry en 2026 pour une première édition ! Plus d’informations à venir !
URL:https://gcine.fr/evenement/g10h-1ere-edition-a-chambery/
LOCATION:Espace Malraux\, 67 Pl. François Mitterrand\, Chambéry\, 73000\, France
ATTACH;FMTTYPE=image/png:https://gcine.fr/wp-content/uploads/2025/11/g10h-chambery-2026.png
END:VEVENT
BEGIN:VEVENT
DTSTART;TZID=UTC:20260313T203000
DTEND;TZID=UTC:20260314T070000
DTSTAMP:20260423T083550
CREATED:20251124T230103Z
LAST-MODIFIED:20260223T154923Z
UID:10904-1773433800-1773471600@gcine.fr
SUMMARY:Nuit Fantastique à la Turbine
DESCRIPTION:13 mars à 20h30 – 14 mars au matin\nNuit fantastique à la Turbine\nAu programme :\n\n\nMarama\, Taratoa Stappard (2025)\nEvanouis\, Zach Cregger (2025)\nL’échelle de Jacob\, Adrian Lyne (1990)\nThe ugly\, Sang-Ho Yeon (2025)\nVermines\, Sébastien Vaniček (2023)\n\nEntre chaque film\, des animations vous seront proposées par les bénévoles de Gciné.\n\nTarifs habituels pour le 1er film / 20€ pour la nuit complète / Café et croissants offerts le matin
URL:https://gcine.fr/evenement/nuit-fantastique-a-la-turbine/
LOCATION:Cinéma La Turbine\, 3 Rue des Tisserands\, Annecy\, 74960
ATTACH;FMTTYPE=image/jpeg:https://gcine.fr/wp-content/uploads/2025/11/nuit-fantastique-2026-gcine.jpg
END:VEVENT
BEGIN:VEVENT
DTSTART;TZID=UTC:20260303T200000
DTEND;TZID=UTC:20260303T230000
DTSTAMP:20260423T083550
CREATED:20251102T203418Z
LAST-MODIFIED:20251102T204202Z
UID:10889-1772568000-1772578800@gcine.fr
SUMMARY:Projection du film "The Greatest Showman" au cinéma Le Mikado
DESCRIPTION:Si vous aussi vous avez écouté en boucle la bande originale de The Greatest Showman à sa sortie en 2018\, cette séance est pour vous ! Ramenez votre bonne humeur et votre superbe voix (même si vous chantez faux\, ça passe\, on dira rien) pour cette soirée animée par les bénévoles de Gciné. Rendez-vous le 3 mars 2026 au cinéma le Mikado à Annecy.
URL:https://gcine.fr/evenement/projection-du-film-the-greatest-showman-au-cinema-le-mikado/
LOCATION:Cinéma Le Mikado\, 2 Pl. de l'Annapurna\, Annecy\, 74000\, France
ATTACH;FMTTYPE=image/jpeg:https://gcine.fr/wp-content/uploads/2025/11/greatest-showman.jpg
END:VEVENT
BEGIN:VEVENT
DTSTART;VALUE=DATE:20260131
DTEND;VALUE=DATE:20260201
DTSTAMP:20260423T083550
CREATED:20251102T201536Z
LAST-MODIFIED:20251102T202506Z
UID:10881-1769817600-1769903999@gcine.fr
SUMMARY:G10h 2026 à L'Auditorium Seynod
DESCRIPTION:Pour sa 5ème édition\, les G10h reviennent à Seynod. Prêt.e.s à relever le défi ? On vous en dit plus très bientôt !
URL:https://gcine.fr/evenement/g10h-2026-a-lauditorium-seynod/
LOCATION:L’Auditorium Seynod\, 1 Pl. de l'hotel de Ville\, Annecy\, 74600
END:VEVENT
BEGIN:VEVENT
DTSTART;TZID=UTC:20251125T183000
DTEND;TZID=UTC:20251125T210000
DTSTAMP:20260423T083550
CREATED:20251102T195100Z
LAST-MODIFIED:20251102T200913Z
UID:10876-1764095400-1764104400@gcine.fr
SUMMARY:Assemblée générale de Gciné
DESCRIPTION:Vous êtes adhérent.e.s à Gciné depuis 1 jour\, 2 mois ou 3 ans ? Votre place est à l’assemblée générale pour tout savoir sur le bilan de l’année passée et les projets de l’année future. Une façon de prendre part à la vie de l’association (et de manger et de boire à la fin !). Et si vous nous rejoigniez ?
URL:https://gcine.fr/evenement/assemblee-generale-de-gcine-4/
LOCATION:Mikado MJC Centre Social\, site Teppes\, Place des Rhododendrons\, Annecy\, France
ATTACH;FMTTYPE=image/png:https://gcine.fr/wp-content/uploads/2024/02/cropped-LogoGcineSansFond-1.png
END:VEVENT
BEGIN:VEVENT
DTSTART;TZID=UTC:20251011T160000
DTEND;TZID=UTC:20251011T160000
DTSTAMP:20260423T083550
CREATED:20250909T172318Z
LAST-MODIFIED:20251003T131127Z
UID:10846-1760198400-1760198400@gcine.fr
SUMMARY:Projection du film d'animation Les Bad Guys 2 à la Turbine
DESCRIPTION:Venez découvrir le deuxième volet du film d’animation les Bad Guys le 11 octobre 2025 à la Turbine à 18h. Le bonus ? Un membre de l’équipe chargé de dessiner les voitures sera présent…
URL:https://gcine.fr/evenement/projection-du-film-danimation-les-bad-guys-2-a-la-turbine/
LOCATION:Cinéma La Turbine\, 3 Rue des Tisserands\, Annecy\, 74960
ATTACH;FMTTYPE=image/jpeg:https://gcine.fr/wp-content/uploads/2025/09/les-bad-guys-2.jpg
END:VEVENT
BEGIN:VEVENT
DTSTART;TZID=UTC:20250925T183000
DTEND;TZID=UTC:20250925T230000
DTSTAMP:20260423T083550
CREATED:20250909T171352Z
LAST-MODIFIED:20250909T174639Z
UID:10844-1758825000-1758841200@gcine.fr
SUMMARY:Soirée des (RE)trouvailles + Projection
DESCRIPTION:Et si on (re)partait pour un tour ? C’est la rentrée et Gciné vous propose une petite soirée pour que l’on se retrouve voire se rencontre. C’est le moment pour nous de faire un récap’ de l’année passée\, d’expliquer le principe de l’association aux nouvelles têtes et d’évoquer ensemble les envies pour 2026. Alors ne manquez pas ce rendez-vous le 25 septembre 2025 à 18h30 au Mikado site Novel. À 20h\, juste après la réunion\, vous pourrez si vous le souhaitez\, découvrir le film Sam fait plus rire de Ally Pankiw (4€ par adhérent.e.s / 5€ pour les autres).
URL:https://gcine.fr/evenement/soiree-des-retrouvailles-projection/
LOCATION:Mikado-Centre social – site Novel\, 2 Pl. de l'Annapurna\, Annecy\, 74000
ATTACH;FMTTYPE=image/png:https://gcine.fr/wp-content/uploads/2025/09/Les-REtrouvailles-2025-scaled.png
END:VEVENT
BEGIN:VEVENT
DTSTART;TZID=UTC:20250913T093000
DTEND;TZID=UTC:20250913T180000
DTSTAMP:20260423T083550
CREATED:20250909T164536Z
LAST-MODIFIED:20250909T165908Z
UID:10842-1757755800-1757786400@gcine.fr
SUMMARY:Forum des associations
DESCRIPTION:Venez rencontrer nos bénévoles lors du forum des associations qui se déroulera à Bonlieu samedi 13 septembre 2025 de 10h à 18h. Ce sera l’occasion pour vous d’en apprendre plus sur Gciné.
URL:https://gcine.fr/evenement/forum-des-associations-3/
LOCATION:Bonlieu\, 1 Rue Jean Jaurès\, Annecy\, 74000
ATTACH;FMTTYPE=image/png:https://gcine.fr/wp-content/uploads/2024/02/cropped-LogoGcineSansFond-1-1.png
END:VEVENT
BEGIN:VEVENT
DTSTART;VALUE=DATE:20250524
DTEND;VALUE=DATE:20250525
DTSTAMP:20260423T083550
CREATED:20250316T174325Z
LAST-MODIFIED:20250403T212739Z
UID:10479-1748044800-1748131199@gcine.fr
SUMMARY:G10h de l'animation 2025
DESCRIPTION:G10h de l’animation\, 3ème édition aux Papeteries ! La billetterie est ouverte alors n’attendez plus pour vous inscrire en cliquant juste ici.
URL:https://gcine.fr/evenement/g10h-de-lanimation-2025/
LOCATION:Les Papeteries – Image Factory\, 1\, 3 Esplanade Augustin Aussedat\, Cran Gevrier\, 74960\, France
ATTACH;FMTTYPE=image/png:https://gcine.fr/wp-content/uploads/2025/03/g10h-animation-2025-minia.png
END:VEVENT
BEGIN:VEVENT
DTSTART;TZID=UTC:20250520T203000
DTEND;TZID=UTC:20250520T235900
DTSTAMP:20260423T083550
CREATED:20250511T120223Z
LAST-MODIFIED:20250512T131253Z
UID:10637-1747773000-1747785540@gcine.fr
SUMMARY:Projection : Kneecap de Rich Peppiatt à la Turbine
DESCRIPTION:Mardi 20 mai\, le cinéma la Turbine diffusera à 20h30 « Kneecap » réalisé par Rich Peppiatt. Ce film irlandais raconte l’histoire de Kneecap\, un groupe de rap irlandais de Belfast\, devenu la figure de proue improbable d’un mouvement de défense des droits civiques visant à sauver leur langue maternelle. C’est drôle\, c’est irrévérencieux\, c’est intelligent et c’est à voir ! Gciné sera présent en début de séance pour présenter le film. Entrée gratuite pour tout.e.s les adhérent.e.s de Gciné ! Toutes les informations sur le festival du Mois du film européen sont à retrouver juste ici. \n 
URL:https://gcine.fr/evenement/projection-kneecap-de-rich-peppiatt-a-la-turbine/
LOCATION:Cinéma La Turbine\, 3 Rue des Tisserands\, Annecy\, 74960
ATTACH;FMTTYPE=image/webp:https://gcine.fr/wp-content/uploads/2025/05/Kneecap-2024.webp
END:VEVENT
BEGIN:VEVENT
DTSTART;VALUE=DATE:20250405
DTEND;VALUE=DATE:20250406
DTSTAMP:20260423T083550
CREATED:20250109T225933Z
LAST-MODIFIED:20250316T174120Z
UID:10174-1743811200-1743897599@gcine.fr
SUMMARY:G10h\, 2ème édition\, à Cluses
DESCRIPTION:G10heures\, 2ème édition à Cluses ! Plus d’informations à venir !
URL:https://gcine.fr/evenement/g10h-2eme-edition-a-cluses/
LOCATION:Ciné Cluses\, Chem. de l'Épinette\, Cluses\, 74300
ATTACH;FMTTYPE=image/png:https://gcine.fr/wp-content/uploads/2025/02/G10h-cluses-2025.png
END:VEVENT
BEGIN:VEVENT
DTSTART;TZID=UTC:20250331T180000
DTEND;TZID=UTC:20250331T180000
DTSTAMP:20260423T083550
CREATED:20250316T175036Z
LAST-MODIFIED:20250316T175036Z
UID:10481-1743444000-1743444000@gcine.fr
SUMMARY:Festival ADCH : Soirée mexicaine !
DESCRIPTION:Dans le cadre du festival ADCH\, une animation sera présentée par Gciné. Révisez vos connaissances sur le Mexique et ses liens avec le cinéma !
URL:https://gcine.fr/evenement/festival-adch-soiree-mexicaine/
LOCATION:Cinéma Le Mikado\, 2 Pl. de l'Annapurna\, Annecy\, 74000\, France
ATTACH;FMTTYPE=image/jpeg:https://gcine.fr/wp-content/uploads/2025/03/475057859_1120735650062479_8977072593266565395_n.jpeg
END:VEVENT
BEGIN:VEVENT
DTSTART;VALUE=DATE:20250314
DTEND;VALUE=DATE:20250315
DTSTAMP:20260423T083550
CREATED:20250109T225656Z
LAST-MODIFIED:20250215T205045Z
UID:10171-1741910400-1741996799@gcine.fr
SUMMARY:Nuit Fantastique à la Turbine
DESCRIPTION:Venez frissonner toute la nuit à nos côtés !  Le 14 mars à la Turbine\, n’oubliez pas d’apporter votre oreiller\, votre plaid et votre doudou. Vous en aurez besoin pour vous rassurer. On dit ça\, on dit rien… Le programme ? Vous le trouverez juste ici ! Vous pouvez compter sur les bénévoles de Gciné pour mettre l’ambiance : animations\, quiz et des cadeaux à gagner !
URL:https://gcine.fr/evenement/nuit-du-fantastique-a-la-turbine/
LOCATION:Cinéma La Turbine\, 3 Rue des Tisserands\, Annecy\, 74960
ATTACH;FMTTYPE=image/jpeg:https://gcine.fr/wp-content/uploads/2025/02/silhouette-3777403_1280.jpg
END:VEVENT
BEGIN:VEVENT
DTSTART;TZID=UTC:20250218T200000
DTEND;TZID=UTC:20250218T230000
DTSTAMP:20260423T083550
CREATED:20250109T225238Z
LAST-MODIFIED:20250129T174828Z
UID:10168-1739908800-1739919600@gcine.fr
SUMMARY:Projection du film "Mamma Mia" au cinéma Le Mikado
DESCRIPTION:« Mamma mia »\, comme vous ne l’avez jamais vu ! Venez (re)voir ce classique du cinéma réalisé par Phyllida Lloyd et profitez de la séance pour chanter à tue-tête sur les chansons d’ABBA. Les bénévoles de Gciné vous accompagneront dans cette séance musicale accompagnée de quiz\, de jeux et de cadeaux ! Si vous venez déguisé.e.s\, un cadeau surprise vous sera offert…
URL:https://gcine.fr/evenement/projection-du-film-mamma-mia-au-cinema-le-mikado/
LOCATION:Cinéma Le Mikado\, 2 Pl. de l'Annapurna\, Annecy\, 74000\, France
ATTACH;FMTTYPE=image/png:https://gcine.fr/wp-content/uploads/2025/01/Capture-decran-2025-01-29-a-18.47.48.png
END:VEVENT
BEGIN:VEVENT
DTSTART;VALUE=DATE:20250208
DTEND;VALUE=DATE:20250209
DTSTAMP:20260423T083550
CREATED:20240914T203949Z
LAST-MODIFIED:20250109T230034Z
UID:9908-1738972800-1739059199@gcine.fr
SUMMARY:G10h 2025 à L'Auditorium Seynod
DESCRIPTION:Pour sa 4ème édition\, les G10h reviennent à Seynod. Prêt.e.s à relever le défi ? On vous en dit plus très bientôt !
URL:https://gcine.fr/evenement/g10h-2025-a-lauditorium-seynod/
LOCATION:L’Auditorium Seynod\, 1 Pl. de l'hotel de Ville\, Annecy\, 74600
ATTACH;FMTTYPE=image/png:https://gcine.fr/wp-content/uploads/2025/01/G10h-Seynod.png
END:VEVENT
BEGIN:VEVENT
DTSTART;TZID=UTC:20241217T203000
DTEND;TZID=UTC:20241217T203000
DTSTAMP:20260423T083550
CREATED:20241211T184133Z
LAST-MODIFIED:20241211T184133Z
UID:10095-1734467400-1734467400@gcine.fr
SUMMARY:Projection : The Truman Show de Peter Weir à la Turbine
DESCRIPTION:Pour fêter ses 20 ans\, la Turbine a invité Gciné à animer une séance. C’est donc The Truman show qui a été choisi par les bénévoles. (Re)voir ce film sur grand écran était le rêve de beaucoup\, et Gciné l’a exaucé !\n\nRendez-vous mardi 17 décembre à  20h30 au cinéma La Turbine. Vous imaginez bien qu’en plus\, il y aura quelques surprises…
URL:https://gcine.fr/evenement/projection-the-truman-show-de-peter-weir-a-la-turbine/
LOCATION:Cinéma La Turbine\, 3 Rue des Tisserands\, Annecy\, 74960
ATTACH;FMTTYPE=image/png:https://gcine.fr/wp-content/uploads/2024/12/Capture-decran-2024-12-11-a-19.39.42.png
END:VEVENT
BEGIN:VEVENT
DTSTART;TZID=UTC:20241207T200000
DTEND;TZID=UTC:20241207T200000
DTSTAMP:20260423T083550
CREATED:20241014T223657Z
LAST-MODIFIED:20241119T232358Z
UID:9994-1733601600-1733601600@gcine.fr
SUMMARY:Hivernal Festival : Projection "Une nuit au zoo"
DESCRIPTION:Une nuit\, une météorite s’écrase sur le zoo de Colepepper\, libérant un virus qui transforme les animaux en mutants zombies baveux ! Gracie\, une jeune louve excentrique\, s’associe avec Dan\, un puma bourru et redoutable\, pour trouver un moyen de retourner à sa meute. Alors que tout le zoo va être contaminé\, ils doivent élaborer un plan pour que les animaux redeviennent eux-mêmes. Avec l’aide d’un groupe de survivants – Xavier\, le lémurien cinéphile ; Frida\, la capybara fougueuse ; Ash\, l’autruche sarcastique et Félix\, le singe perfide – ils se lancent dans une mission périlleuse pour vaincre les zombies\, déterminés à répandre le virus au-delà des murs du zoo. Bienvenue dans l’horrible…. NUIT AU ZOO !\n\nLa séance sera précédée d’une animation menée par les jeunes talentueux.ses et surmotivé.e.s de Gciné. Au programme\, des jeux\, des rires et des cadeaux !
URL:https://gcine.fr/evenement/hivernal-festival/
LOCATION:Pathé Annecy\, 7 Avenue de Brogny\, Annecy\, 74000\, France
ATTACH;FMTTYPE=image/jpeg:https://gcine.fr/wp-content/uploads/2024/10/461984982_947480834090947_6521011941487195902_n.jpg
END:VEVENT
BEGIN:VEVENT
DTSTART;TZID=UTC:20241126T183000
DTEND;TZID=UTC:20241126T183000
DTSTAMP:20260423T083550
CREATED:20241014T223333Z
LAST-MODIFIED:20241014T223333Z
UID:9992-1732645800-1732645800@gcine.fr
SUMMARY:Assemblée générale de Gciné
DESCRIPTION:Vous êtes adhérent.e.s à Gciné depuis 1 jour\, 2 mois ou 3 ans ? Votre place est à l’assemblée générale pour tout savoir sur le bilan de l’année passée et les projets de l’année future. Une façon de prendre part à la vie de l’association (et de manger et de boire à la fin !). Bonne nouvelle cette année : des postes de représentant.e.s du Conseil d’administration sont disponibles. Et si vous nous rejoigniez ?
URL:https://gcine.fr/evenement/assemblee-generale-de-gcine-3/
LOCATION:Cinéma Le Mikado\, 2 Pl. de l'Annapurna\, Annecy\, 74000\, France
ATTACH;FMTTYPE=image/png:https://gcine.fr/wp-content/uploads/2024/02/cropped-LogoGcineSansFond-1.png
END:VEVENT
BEGIN:VEVENT
DTSTART;TZID=UTC:20241031T180000
DTEND;TZID=UTC:20241101T010000
DTSTAMP:20260423T083550
CREATED:20240914T200445Z
LAST-MODIFIED:20241014T223038Z
UID:9905-1730397600-1730422800@gcine.fr
SUMMARY:Soirée Halloween à l'Auditorium de Seynod
DESCRIPTION:Réservez la date\, le programme en cours de construction. On vous en dit plus très bientôt !
URL:https://gcine.fr/evenement/soiree-halloween-a-lauditorium-de-seynod/
LOCATION:L’Auditorium Seynod\, 1 Pl. de l'hotel de Ville\, Annecy\, 74600
ATTACH;FMTTYPE=image/png:https://gcine.fr/wp-content/uploads/2024/09/Capture-decran-2024-10-15-a-00.05.22.png
END:VEVENT
BEGIN:VEVENT
DTSTART;TZID=UTC:20241019T180000
DTEND;TZID=UTC:20241019T180000
DTSTAMP:20260423T083550
CREATED:20240919T201401Z
LAST-MODIFIED:20240919T201401Z
UID:9912-1729360800-1729360800@gcine.fr
SUMMARY:Séance BDCiné à la Turbine
DESCRIPTION:Au début de Vincent Lacoste\, il y a « Les beaux gosses »\, le film hilarant de Riad Sattouf. Les adolescent.e.s y sont décrit.e.s avec tendresse\, précision et un poil de moquerie. C’est drôle\, c’est efficace et c’est juste. Après « Les beaux gosses »\, il y a eu la BD « Le jeune acteur »\, du même Riad Sattouf. Lui\, il sait tout faire\, faut dire ! On y apprend les dessous du tournage\, les débuts de Vincent Lacoste et de sa carrière. \nCette soirée sera donc l’occasion de parler (une fois de plus) de BD\, de ciné et de profiter d’un beau moment animé par Gciné !
URL:https://gcine.fr/evenement/seance-bdcine-a-la-turbine/
ATTACH;FMTTYPE=image/jpeg:https://gcine.fr/wp-content/uploads/2024/09/beaux-gosses-les.jpg
END:VEVENT
BEGIN:VEVENT
DTSTART;TZID=UTC:20240926T183000
DTEND;TZID=UTC:20240926T230000
DTSTAMP:20260423T083550
CREATED:20240914T195943Z
LAST-MODIFIED:20240914T195943Z
UID:9903-1727375400-1727391600@gcine.fr
SUMMARY:Soirée de (RE)trouvailles au Mikado !
DESCRIPTION:Venez (re)découvrir Gciné\, les nouveautés et les projets. À 20h\, projection de « Vampire humaniste cherche suicidaire consentant »\, un film qui hésite entre film de vampire et comédie ! On vous attend !
URL:https://gcine.fr/evenement/soiree-de-retrouvailles-au-mikado/
LOCATION:Cinéma Le Mikado\, 2 Pl. de l'Annapurna\, Annecy\, 74000\, France
ATTACH;FMTTYPE=image/png:https://gcine.fr/wp-content/uploads/2024/09/Les-REtrouvailles.png
END:VEVENT
BEGIN:VEVENT
DTSTART;VALUE=DATE:20240525
DTEND;VALUE=DATE:20240526
DTSTAMP:20260423T083550
CREATED:20231101T235804Z
LAST-MODIFIED:20240319T214605Z
UID:8275-1716595200-1716681599@gcine.fr
SUMMARY:G10 heures pour faire un film d'animation 2024
DESCRIPTION:Après le succès de la première édition des G10h pour faire un film d’animation\, retrouvez les bénévoles de Gciné le 25 mai 2024 aux Papeteries de Cran Gevrier pour la 2ème édition de ce super challenge ! On compte sur votre présence.
URL:https://gcine.fr/evenement/g10-heures-pour-faire-un-film-danimation-2024/
LOCATION:Les Papeteries – Image Factory\, 1\, 3 Esplanade Augustin Aussedat\, Cran Gevrier\, 74960\, France
END:VEVENT
BEGIN:VEVENT
DTSTART;TZID=UTC:20240517T210000
DTEND;TZID=UTC:20240518T070000
DTSTAMP:20260423T083550
CREATED:20240429T204837Z
LAST-MODIFIED:20240429T204915Z
UID:9703-1715979600-1716015600@gcine.fr
SUMMARY:La nuit Fantastique 2024
DESCRIPTION:Venez frissonner avec nous le 17 mai 2024\, à partir de 21h\, à la Turbine de Cran Gevrier en assistant à la nuit Fantastique organisée dans le cadre du mois du cinéma européen. On a hâte !
URL:https://gcine.fr/evenement/la-nuit-fantastique-2024/
LOCATION:Cinéma La Turbine\, 3 Rue des Tisserands\, Annecy\, 74960
END:VEVENT
BEGIN:VEVENT
DTSTART;TZID=UTC:20240504T150000
DTEND;TZID=UTC:20240504T223000
DTSTAMP:20260423T083550
CREATED:20240429T160002Z
LAST-MODIFIED:20240429T160002Z
UID:9677-1714834800-1714861800@gcine.fr
SUMMARY:Cafés BDCiné :  Les Guerres de Lucas de Renaud Roche et Laurent Hopman
DESCRIPTION:Et si  l’on mêlait notre amour pour le ciné avec l’univers de la bande dessinée ? C’est le concept de notre nouveau projet\, les Cafés BDCiné. Pour en savoir plus\, cliquez ici !
URL:https://gcine.fr/evenement/cafes-bdcine-les-guerres-de-lucas-de-renaud-roche-et-laurent-hopman/
LOCATION:BD fugue Café\, 1 Rue Jean Jaurès\, Annecy\, 74000\, France
END:VEVENT
BEGIN:VEVENT
DTSTART;TZID=UTC:20240406T080000
DTEND;TZID=UTC:20240406T223000
DTSTAMP:20260423T083550
CREATED:20231101T235349Z
LAST-MODIFIED:20240319T214747Z
UID:8272-1712390400-1712442600@gcine.fr
SUMMARY:G10 heures pour faire un film Ciné Cluses
DESCRIPTION:Notre événement G10h se déplace une nouvelle fois et sera à Cluses le 6 avril 2024. Pour les nouveaux\, nouvelles\, l’idée est de créer seul.e ou en équipe un court-métrage sur un thème imposé\, le tout en 10h. On diffuse les films le soir-même dans le cinéma partenaire. Alors\, tenté.e ?
URL:https://gcine.fr/evenement/g10-heures-pour-faire-un-film-cine-cluses/
LOCATION:Ciné Cluses\, Chem. de l'Épinette\, Cluses\, 74300
END:VEVENT
BEGIN:VEVENT
DTSTART;TZID=UTC:20240210T080000
DTEND;TZID=UTC:20240210T210000
DTSTAMP:20260423T083550
CREATED:20230916T112218Z
LAST-MODIFIED:20230916T112218Z
UID:8071-1707552000-1707598800@gcine.fr
SUMMARY:G10h pour faire un film édition 2024 !
DESCRIPTION:Notre rendez-vous annuel des G10h se fera un peu plus tôt dans l’année et change de lieu. On vous convoque le 10 février 2024 à l’Auditorium Seynod pour vivre la 3ème édition de notre concours de réalisation. Venez passer un bon moment (un peu stressant) avec l’équipe de Gciné et tout donner pour remporter l’un des trophées !
URL:https://gcine.fr/evenement/g10h-pour-faire-un-film-edition-2024/
LOCATION:L’Auditorium Seynod\, 1 Pl. de l'hotel de Ville\, Annecy\, 74600
ATTACH;FMTTYPE=:
END:VEVENT
BEGIN:VEVENT
DTSTART;TZID=UTC:20240210T080000
DTEND;TZID=UTC:20240210T210000
DTSTAMP:20260423T083550
CREATED:20230916T112218Z
LAST-MODIFIED:20230916T112218Z
UID:8835-1707552000-1707598800@gcine.fr
SUMMARY:G10h pour faire un film édition 2024 !
DESCRIPTION:Notre rendez-vous annuel des G10h se fera un peu plus tôt dans l’année et change de lieu. On vous convoque le 10 février 2024 à l’Auditorium Seynod pour vivre la 3ème édition de notre concours de réalisation. Venez passer un bon moment (un peu stressant) avec l’équipe de Gciné et tout donner pour remporter l’un des trophées !
URL:https://gcine.fr/evenement/g10h-pour-faire-un-film-edition-2024-2/
LOCATION:L’Auditorium Seynod\, 1 Pl. de l'hotel de Ville\, Annecy\, 74600
ATTACH;FMTTYPE=:
END:VEVENT
BEGIN:VEVENT
DTSTART;VALUE=DATE:20240127
DTEND;VALUE=DATE:20240128
DTSTAMP:20260423T083550
CREATED:20231219T180023Z
LAST-MODIFIED:20231219T180023Z
UID:8502-1706313600-1706399999@gcine.fr
SUMMARY:GvoyaG : Maroc !
DESCRIPTION:Toute une journée consacrée au cinéma marocain\, en présence des acteurs et réalisateurs Malek Akhmiss et Khalid Maadour. Ateliers\, discussions et projections.
URL:https://gcine.fr/evenement/gvoyag-maroc/
LOCATION:Mikado-Centre social – site Novel\, 2 Pl. de l'Annapurna\, Annecy\, 74000
ATTACH;FMTTYPE=:
END:VEVENT
BEGIN:VEVENT
DTSTART;VALUE=DATE:20240127
DTEND;VALUE=DATE:20240128
DTSTAMP:20260423T083550
CREATED:20231219T180023Z
LAST-MODIFIED:20231219T180023Z
UID:8840-1706313600-1706399999@gcine.fr
SUMMARY:GvoyaG : Maroc !
DESCRIPTION:Toute une journée consacrée au cinéma marocain\, en présence des acteurs et réalisateurs Malek Akhmiss et Khalid Maadour. Ateliers\, discussions et projections.
URL:https://gcine.fr/evenement/gvoyag-maroc-2/
LOCATION:Mikado-Centre social – site Novel\, 2 Pl. de l'Annapurna\, Annecy\, 74000
ATTACH;FMTTYPE=:
END:VEVENT
BEGIN:VEVENT
DTSTART;TZID=UTC:20240124T190000
DTEND;TZID=UTC:20240124T230000
DTSTAMP:20260423T083550
CREATED:20231219T175528Z
LAST-MODIFIED:20231219T175528Z
UID:8839-1706122800-1706137200@gcine.fr
SUMMARY:Projection de La source des femmes de Radu Mihaileanu
DESCRIPTION:Projection de La source des femmes\, réalisé par Radu Mihaileanu\, à 19h. Cette séance sera suivie d’une discussion avec Malek Akhmiss\, acteur/comédien marocain.
URL:https://gcine.fr/evenement/projection-de-la-source-des-femmes-de-radu-mihaileanu-2/
LOCATION:Mikado-Centre social – site Novel\, 2 Pl. de l'Annapurna\, Annecy\, 74000
ATTACH;FMTTYPE=:
END:VEVENT
END:VCALENDAR