BEGIN:VCALENDAR
VERSION:2.0
PRODID:-//Gcine - ECPv6.15.20//NONSGML v1.0//EN
CALSCALE:GREGORIAN
METHOD:PUBLISH
X-ORIGINAL-URL:https://gcine.fr
X-WR-CALDESC:Évènements pour Gcine
REFRESH-INTERVAL;VALUE=DURATION:PT1H
X-Robots-Tag:noindex
X-PUBLISHED-TTL:PT1H
BEGIN:VTIMEZONE
TZID:UTC
BEGIN:STANDARD
TZOFFSETFROM:+0000
TZOFFSETTO:+0000
TZNAME:UTC
DTSTART:20240101T000000
END:STANDARD
END:VTIMEZONE
BEGIN:VEVENT
DTSTART;TZID=UTC:20251125T183000
DTEND;TZID=UTC:20251125T210000
DTSTAMP:20260423T210531
CREATED:20251102T195100Z
LAST-MODIFIED:20251102T200913Z
UID:10876-1764095400-1764104400@gcine.fr
SUMMARY:Assemblée générale de Gciné
DESCRIPTION:Vous êtes adhérent.e.s à Gciné depuis 1 jour\, 2 mois ou 3 ans ? Votre place est à l’assemblée générale pour tout savoir sur le bilan de l’année passée et les projets de l’année future. Une façon de prendre part à la vie de l’association (et de manger et de boire à la fin !). Et si vous nous rejoigniez ?
URL:https://gcine.fr/evenement/assemblee-generale-de-gcine-4/
LOCATION:Mikado MJC Centre Social\, site Teppes\, Place des Rhododendrons\, Annecy\, France
ATTACH;FMTTYPE=image/png:https://gcine.fr/wp-content/uploads/2024/02/cropped-LogoGcineSansFond-1.png
END:VEVENT
END:VCALENDAR