BEGIN:VCALENDAR
VERSION:2.0
PRODID:-//Gcine - ECPv6.15.20//NONSGML v1.0//EN
CALSCALE:GREGORIAN
METHOD:PUBLISH
X-ORIGINAL-URL:https://gcine.fr
X-WR-CALDESC:Évènements pour Gcine
REFRESH-INTERVAL;VALUE=DURATION:PT1H
X-Robots-Tag:noindex
X-PUBLISHED-TTL:PT1H
BEGIN:VTIMEZONE
TZID:UTC
BEGIN:STANDARD
TZOFFSETFROM:+0000
TZOFFSETTO:+0000
TZNAME:UTC
DTSTART:20250101T000000
END:STANDARD
END:VTIMEZONE
BEGIN:VEVENT
DTSTART;VALUE=DATE:20260131
DTEND;VALUE=DATE:20260201
DTSTAMP:20260423T145615
CREATED:20251102T201536Z
LAST-MODIFIED:20251102T202506Z
UID:10881-1769817600-1769903999@gcine.fr
SUMMARY:G10h 2026 à L'Auditorium Seynod
DESCRIPTION:Pour sa 5ème édition\, les G10h reviennent à Seynod. Prêt.e.s à relever le défi ? On vous en dit plus très bientôt !
URL:https://gcine.fr/evenement/g10h-2026-a-lauditorium-seynod/
LOCATION:L’Auditorium Seynod\, 1 Pl. de l'hotel de Ville\, Annecy\, 74600
END:VEVENT
END:VCALENDAR