BEGIN:VCALENDAR
VERSION:2.0
PRODID:-//Gcine - ECPv6.15.20//NONSGML v1.0//EN
CALSCALE:GREGORIAN
METHOD:PUBLISH
X-ORIGINAL-URL:https://gcine.fr
X-WR-CALDESC:Évènements pour Gcine
REFRESH-INTERVAL;VALUE=DURATION:PT1H
X-Robots-Tag:noindex
X-PUBLISHED-TTL:PT1H
BEGIN:VTIMEZONE
TZID:UTC
BEGIN:STANDARD
TZOFFSETFROM:+0000
TZOFFSETTO:+0000
TZNAME:UTC
DTSTART:20250101T000000
END:STANDARD
END:VTIMEZONE
BEGIN:VEVENT
DTSTART;VALUE=DATE:20260425
DTEND;VALUE=DATE:20260426
DTSTAMP:20260421T234604
CREATED:20251102T200616Z
LAST-MODIFIED:20251102T200616Z
UID:10878-1777075200-1777161599@gcine.fr
SUMMARY:G10h de l'animation 2026
DESCRIPTION:G10h de l’animation\, 4ème édition aux Papeteries ! Patience\, les inscriptions arrivent bientôt…
URL:https://gcine.fr/evenement/g10h-de-lanimation-2026/
LOCATION:Les Papeteries – Image Factory\, 1\, 3 Esplanade Augustin Aussedat\, Cran Gevrier\, 74960\, France
ATTACH;FMTTYPE=image/png:https://gcine.fr/wp-content/uploads/2025/11/g10h-animation-2026-gcine.png
END:VEVENT
END:VCALENDAR