BEGIN:VCALENDAR
VERSION:2.0
PRODID:-//Gcine - ECPv6.15.20//NONSGML v1.0//EN
CALSCALE:GREGORIAN
METHOD:PUBLISH
X-WR-CALNAME:Gcine
X-ORIGINAL-URL:https://gcine.fr
X-WR-CALDESC:Évènements pour Gcine
REFRESH-INTERVAL;VALUE=DURATION:PT1H
X-Robots-Tag:noindex
X-PUBLISHED-TTL:PT1H
BEGIN:VTIMEZONE
TZID:UTC
BEGIN:STANDARD
TZOFFSETFROM:+0000
TZOFFSETTO:+0000
TZNAME:UTC
DTSTART:20250101T000000
END:STANDARD
END:VTIMEZONE
BEGIN:VEVENT
DTSTART;TZID=UTC:20260313T203000
DTEND;TZID=UTC:20260314T070000
DTSTAMP:20260423T114000
CREATED:20251124T230103Z
LAST-MODIFIED:20260223T154923Z
UID:10904-1773433800-1773471600@gcine.fr
SUMMARY:Nuit Fantastique à la Turbine
DESCRIPTION:13 mars à 20h30 – 14 mars au matin\nNuit fantastique à la Turbine\nAu programme :\n\n\nMarama\, Taratoa Stappard (2025)\nEvanouis\, Zach Cregger (2025)\nL’échelle de Jacob\, Adrian Lyne (1990)\nThe ugly\, Sang-Ho Yeon (2025)\nVermines\, Sébastien Vaniček (2023)\n\nEntre chaque film\, des animations vous seront proposées par les bénévoles de Gciné.\n\nTarifs habituels pour le 1er film / 20€ pour la nuit complète / Café et croissants offerts le matin
URL:https://gcine.fr/evenement/nuit-fantastique-a-la-turbine/
LOCATION:Cinéma La Turbine\, 3 Rue des Tisserands\, Annecy\, 74960
ATTACH;FMTTYPE=image/jpeg:https://gcine.fr/wp-content/uploads/2025/11/nuit-fantastique-2026-gcine.jpg
END:VEVENT
END:VCALENDAR